BEGIN:VCALENDAR
VERSION:2.0
PRODID:-//BULL - Billard &amp; Dart Leonberg-Höfingen 1989 e.V. - ECPv6.3.3.1//NONSGML v1.0//EN
CALSCALE:GREGORIAN
METHOD:PUBLISH
X-ORIGINAL-URL:https://bullhoefingen.de
X-WR-CALDESC:Veranstaltungen für BULL - Billard &amp; Dart Leonberg-Höfingen 1989 e.V.
REFRESH-INTERVAL;VALUE=DURATION:PT1H
X-Robots-Tag:noindex
X-PUBLISHED-TTL:PT1H
BEGIN:VTIMEZONE
TZID:Europe/Berlin
BEGIN:DAYLIGHT
TZOFFSETFROM:+0100
TZOFFSETTO:+0200
TZNAME:CEST
DTSTART:20260329T010000
END:DAYLIGHT
BEGIN:STANDARD
TZOFFSETFROM:+0200
TZOFFSETTO:+0100
TZNAME:CET
DTSTART:20261025T010000
END:STANDARD
END:VTIMEZONE
BEGIN:VEVENT
DTSTART;TZID=Europe/Berlin:20260201T103000
DTEND;TZID=Europe/Berlin:20260201T143000
DTSTAMP:20260419T160432
CREATED:20250823T091900Z
LAST-MODIFIED:20250823T091900Z
UID:1729-1769941800-1769956200@bullhoefingen.de
SUMMARY:Spieltag Pool-Billard Landesliga (BULL Leonberg-Höfingen 1)
DESCRIPTION:Auswärtsspieltag\, Gegner: BC Feuersee 1
URL:https://bullhoefingen.de/termin/spieltag-pool-billard-landesliga-bull-leonberg-hoefingen-1-6
LOCATION:Sportcafe Victory\, Steinbeisstr. 3\, Leonberg\, 71229\, Germany
CATEGORIES:Billard Ligatermine,Pool-Billard Landesliga
ATTACH;FMTTYPE=image/png:https://bullhoefingen.de/wp-content/uploads/2024/02/bvbw-logo-1-e1709771934123.png
END:VEVENT
BEGIN:VEVENT
DTSTART;TZID=Europe/Berlin:20260201T103000
DTEND;TZID=Europe/Berlin:20260201T143000
DTSTAMP:20260419T160432
CREATED:20250823T101034Z
LAST-MODIFIED:20250831T092549Z
UID:1757-1769941800-1769956200@bullhoefingen.de
SUMMARY:Spieltag Pool-Billard Kreisliga (BULL Leonberg-Höfingen 2)
DESCRIPTION:Heimspieltag\, Gegner: PBC Rastatt 2
URL:https://bullhoefingen.de/termin/spieltag-pool-billard-landesliga-bull-leonberg-hoefingen-2-7
LOCATION:BULL Billard & Dart\, Liebigstr. 9\, Leonberg\, 71229\, Germany
CATEGORIES:Billard Ligatermine,Pool-Billard Kreisliga (BULL Leonberg-Höfingen 2)
ATTACH;FMTTYPE=image/png:https://bullhoefingen.de/wp-content/uploads/2024/02/bvbw-logo-1-e1709771934123.png
END:VEVENT
BEGIN:VEVENT
DTSTART;TZID=Europe/Berlin:20260201T140000
DTEND;TZID=Europe/Berlin:20260201T180000
DTSTAMP:20260419T160432
CREATED:20250823T103037Z
LAST-MODIFIED:20250831T092349Z
UID:1781-1769954400-1769968800@bullhoefingen.de
SUMMARY:Spieltag Pool-Billard Kreisliga (BULL Leonberg-Höfingen 3)
DESCRIPTION:Heimspieltag\, Gegner: BC Feuersee 3
URL:https://bullhoefingen.de/termin/spieltag-pool-billard-landesliga-bull-leonberg-hoefingen-3-6
LOCATION:BULL Billard & Dart\, Liebigstr. 9\, Leonberg\, 71229\, Germany
CATEGORIES:Billard Ligatermine,Pool-Billard Kreisliga (BULL Leonberg-Höfingen 3)
ATTACH;FMTTYPE=image/png:https://bullhoefingen.de/wp-content/uploads/2024/02/bvbw-logo-1-e1709771934123.png
END:VEVENT
BEGIN:VEVENT
DTSTART;TZID=Europe/Berlin:20260202T193000
DTEND;TZID=Europe/Berlin:20260202T223000
DTSTAMP:20260419T160432
CREATED:20250918T132155Z
LAST-MODIFIED:20250918T132155Z
UID:1929-1770060600-1770071400@bullhoefingen.de
SUMMARY:Spieltag BULL Darter MNR Liga C3
DESCRIPTION:Auswärtsspieltag\, Gegner: Spieltag BULL Darter MNR Liga C3
URL:https://bullhoefingen.de/termin/spieltag-bull-darter-mnr-liga-c3-16
LOCATION:Bistro Cheers\, Böhringer Str. 59\, Stuttgart\, 70435
CATEGORIES:Dart MNR Liga C3,E-Dart Ligatermine
ATTACH;FMTTYPE=image/jpeg:https://bullhoefingen.de/wp-content/uploads/2024/02/mnr-liga-logo-1.jpg
END:VEVENT
BEGIN:VEVENT
DTSTART;TZID=Europe/Berlin:20260208T123000
DTEND;TZID=Europe/Berlin:20260208T163000
DTSTAMP:20260419T160432
CREATED:20250823T092041Z
LAST-MODIFIED:20250901T171913Z
UID:1731-1770553800-1770568200@bullhoefingen.de
SUMMARY:Spieltag Pool-Billard Landesliga (BULL Leonberg-Höfingen 1)
DESCRIPTION:Heimspieltag\, Gegner: BV Pforzheim 2
URL:https://bullhoefingen.de/termin/spieltag-pool-billard-landesliga-bull-leonberg-hoefingen-1-7
LOCATION:BULL Billard & Dart\, Liebigstr. 9\, Leonberg\, 71229\, Germany
CATEGORIES:Billard Ligatermine,Pool-Billard Landesliga
ATTACH;FMTTYPE=image/png:https://bullhoefingen.de/wp-content/uploads/2024/02/bvbw-logo-1-e1709771934123.png
END:VEVENT
BEGIN:VEVENT
DTSTART;TZID=Europe/Berlin:20260208T140000
DTEND;TZID=Europe/Berlin:20260208T180000
DTSTAMP:20260419T160432
CREATED:20250823T100928Z
LAST-MODIFIED:20250901T173724Z
UID:1755-1770559200-1770573600@bullhoefingen.de
SUMMARY:Spieltag Pool-Billard Kreisliga (BULL Leonberg-Höfingen 2)
DESCRIPTION:Auswärtsspieltag\, Gegner: PF Calw 2
URL:https://bullhoefingen.de/termin/spieltag-pool-billard-landesliga-bull-leonberg-hoefingen-2-6
LOCATION:Billard Factory\, Tübinger Straße 1\, Calw\, 75365\, Germany
CATEGORIES:Billard Ligatermine,Pool-Billard Kreisliga (BULL Leonberg-Höfingen 2)
ATTACH;FMTTYPE=image/png:https://bullhoefingen.de/wp-content/uploads/2024/02/bvbw-logo-1-e1709771934123.png
END:VEVENT
BEGIN:VEVENT
DTSTART;TZID=Europe/Berlin:20260208T140000
DTEND;TZID=Europe/Berlin:20260208T180000
DTSTAMP:20260419T160432
CREATED:20250823T103228Z
LAST-MODIFIED:20250831T092419Z
UID:1783-1770559200-1770573600@bullhoefingen.de
SUMMARY:Spieltag Pool-Billard Kreisliga (BULL Leonberg-Höfingen 3)
DESCRIPTION:Auswärtsspieltag\, Gegner: PF Calw 1
URL:https://bullhoefingen.de/termin/spieltag-pool-billard-landesliga-bull-leonberg-hoefingen-3-7
LOCATION:Billard Factory\, Tübinger Straße 1\, Calw\, 75365\, Germany
CATEGORIES:Billard Ligatermine,Pool-Billard Kreisliga (BULL Leonberg-Höfingen 3)
ATTACH;FMTTYPE=image/png:https://bullhoefingen.de/wp-content/uploads/2024/02/bvbw-logo-1-e1709771934123.png
END:VEVENT
END:VCALENDAR