BEGIN:VCALENDAR
VERSION:2.0
PRODID:-//BULL - Billard &amp; Dart Leonberg-Höfingen 1989 e.V. - ECPv6.3.3.1//NONSGML v1.0//EN
CALSCALE:GREGORIAN
METHOD:PUBLISH
X-WR-CALNAME:BULL - Billard &amp; Dart Leonberg-Höfingen 1989 e.V.
X-ORIGINAL-URL:https://bullhoefingen.de
X-WR-CALDESC:Veranstaltungen für BULL - Billard &amp; Dart Leonberg-Höfingen 1989 e.V.
REFRESH-INTERVAL;VALUE=DURATION:PT1H
X-Robots-Tag:noindex
X-PUBLISHED-TTL:PT1H
BEGIN:VTIMEZONE
TZID:Europe/Berlin
BEGIN:DAYLIGHT
TZOFFSETFROM:+0100
TZOFFSETTO:+0200
TZNAME:CEST
DTSTART:20260329T010000
END:DAYLIGHT
BEGIN:STANDARD
TZOFFSETFROM:+0200
TZOFFSETTO:+0100
TZNAME:CET
DTSTART:20261025T010000
END:STANDARD
END:VTIMEZONE
BEGIN:VEVENT
DTSTART;TZID=Europe/Berlin:20260529T200000
DTEND;TZID=Europe/Berlin:20260529T235900
DTSTAMP:20260419T212651
CREATED:20260309T204318Z
LAST-MODIFIED:20260309T205431Z
UID:1976-1780084800-1780099140@bullhoefingen.de
SUMMARY:10-Ball BULL Cup
DESCRIPTION:Link zur Tournamentapp: \nAnmeldung 10-Ball BULL Cup 29.05.2026
URL:https://bullhoefingen.de/termin/10-ball-bull-cup-6
LOCATION:BULL Billard & Dart\, Liebigstr. 9\, Leonberg\, 71229\, Germany
CATEGORIES:Billard Turniere
ATTACH;FMTTYPE=image/jpeg:https://bullhoefingen.de/wp-content/uploads/2026/03/Billard-Turnier-1.jpeg
END:VEVENT
END:VCALENDAR