BEGIN:VCALENDAR
VERSION:2.0
PRODID:-//BULL - Billard &amp; Dart Leonberg-Höfingen 1989 e.V. - ECPv6.3.3.1//NONSGML v1.0//EN
CALSCALE:GREGORIAN
METHOD:PUBLISH
X-WR-CALNAME:BULL - Billard &amp; Dart Leonberg-Höfingen 1989 e.V.
X-ORIGINAL-URL:https://bullhoefingen.de
X-WR-CALDESC:Veranstaltungen für BULL - Billard &amp; Dart Leonberg-Höfingen 1989 e.V.
REFRESH-INTERVAL;VALUE=DURATION:PT1H
X-Robots-Tag:noindex
X-PUBLISHED-TTL:PT1H
BEGIN:VTIMEZONE
TZID:Europe/Berlin
BEGIN:DAYLIGHT
TZOFFSETFROM:+0100
TZOFFSETTO:+0200
TZNAME:CEST
DTSTART:20260329T010000
END:DAYLIGHT
BEGIN:STANDARD
TZOFFSETFROM:+0200
TZOFFSETTO:+0100
TZNAME:CET
DTSTART:20261025T010000
END:STANDARD
END:VTIMEZONE
BEGIN:VEVENT
DTSTART;TZID=Europe/Berlin:20260315T113000
DTEND;TZID=Europe/Berlin:20260315T153000
DTSTAMP:20260419T155824
CREATED:20250823T101249Z
LAST-MODIFIED:20250901T173950Z
UID:1759-1773574200-1773588600@bullhoefingen.de
SUMMARY:Spieltag Pool-Billard Kreisliga (BULL Leonberg-Höfingen 2)
DESCRIPTION:Auswärtsspieltag\, Gegner: PBC Nagoldtal 2
URL:https://bullhoefingen.de/termin/spieltag-pool-billard-landesliga-bull-leonberg-hoefingen-2-8
LOCATION:Kö 22 – Leonhardcenter\, Leonhardstr. 21-23\, Nagold\, 72202\, Germany
CATEGORIES:Billard Ligatermine,Pool-Billard Kreisliga (BULL Leonberg-Höfingen 2)
ATTACH;FMTTYPE=image/png:https://bullhoefingen.de/wp-content/uploads/2024/02/bvbw-logo-1-e1709771934123.png
END:VEVENT
BEGIN:VEVENT
DTSTART;TZID=Europe/Berlin:20260315T113000
DTEND;TZID=Europe/Berlin:20260315T153000
DTSTAMP:20260419T155824
CREATED:20250823T103854Z
LAST-MODIFIED:20250901T172337Z
UID:1787-1773574200-1773588600@bullhoefingen.de
SUMMARY:Spieltag Pool-Billard Kreisliga (BULL Leonberg-Höfingen 3)
DESCRIPTION:Auswärtsspieltag\, Gegner: PBC Nagoldtal 3
URL:https://bullhoefingen.de/termin/spieltag-pool-billard-landesliga-bull-leonberg-hoefingen-3-9
LOCATION:Kö 22 – Leonhardcenter\, Leonhardstr. 21-23\, Nagold\, 72202\, Germany
CATEGORIES:Billard Ligatermine,Pool-Billard Kreisliga (BULL Leonberg-Höfingen 3)
ATTACH;FMTTYPE=image/png:https://bullhoefingen.de/wp-content/uploads/2024/02/bvbw-logo-1-e1709771934123.png
END:VEVENT
BEGIN:VEVENT
DTSTART;TZID=Europe/Berlin:20260315T123000
DTEND;TZID=Europe/Berlin:20260315T163000
DTSTAMP:20260419T155824
CREATED:20250823T092516Z
LAST-MODIFIED:20250901T171956Z
UID:1735-1773577800-1773592200@bullhoefingen.de
SUMMARY:Spieltag Pool-Billard Landesliga (BULL Leonberg-Höfingen 1)
DESCRIPTION:Heimspieltag\, Gegner: TV Cannstatt 2
URL:https://bullhoefingen.de/termin/spieltag-pool-billard-landesliga-bull-leonberg-hoefingen-1-9
LOCATION:BULL Billard & Dart\, Liebigstr. 9\, Leonberg\, 71229\, Germany
CATEGORIES:Billard Ligatermine,Pool-Billard Landesliga
ATTACH;FMTTYPE=image/png:https://bullhoefingen.de/wp-content/uploads/2024/02/bvbw-logo-1-e1709771934123.png
END:VEVENT
END:VCALENDAR