BEGIN:VCALENDAR
VERSION:2.0
PRODID:-//BULL - Billard &amp; Dart Leonberg-Höfingen 1989 e.V. - ECPv6.3.3.1//NONSGML v1.0//EN
CALSCALE:GREGORIAN
METHOD:PUBLISH
X-ORIGINAL-URL:https://bullhoefingen.de
X-WR-CALDESC:Veranstaltungen für BULL - Billard &amp; Dart Leonberg-Höfingen 1989 e.V.
REFRESH-INTERVAL;VALUE=DURATION:PT1H
X-Robots-Tag:noindex
X-PUBLISHED-TTL:PT1H
BEGIN:VTIMEZONE
TZID:Europe/Berlin
BEGIN:DAYLIGHT
TZOFFSETFROM:+0100
TZOFFSETTO:+0200
TZNAME:CEST
DTSTART:20260329T010000
END:DAYLIGHT
BEGIN:STANDARD
TZOFFSETFROM:+0200
TZOFFSETTO:+0100
TZNAME:CET
DTSTART:20261025T010000
END:STANDARD
END:VTIMEZONE
BEGIN:VEVENT
DTSTART;TZID=Europe/Berlin:20260301T103000
DTEND;TZID=Europe/Berlin:20260301T143000
DTSTAMP:20260421T112807
CREATED:20250823T101655Z
LAST-MODIFIED:20251228T211226Z
UID:1765-1772361000-1772375400@bullhoefingen.de
SUMMARY:Spieltag Pool-Billard Kreisliga (BULL Leonberg-Höfingen 2)
DESCRIPTION:Heimspieltag\, Gegner: BV Pforzheim 4
URL:https://bullhoefingen.de/termin/spieltag-pool-billard-landesliga-bull-leonberg-hoefingen-2-11
LOCATION:BULL Billard & Dart\, Liebigstr. 9\, Leonberg\, 71229\, Germany
CATEGORIES:Billard Ligatermine,Pool-Billard Kreisliga (BULL Leonberg-Höfingen 2)
ATTACH;FMTTYPE=image/png:https://bullhoefingen.de/wp-content/uploads/2024/02/bvbw-logo-1-e1709771934123.png
END:VEVENT
END:VCALENDAR