BEGIN:VCALENDAR
VERSION:2.0
PRODID:-//BULL - Billard &amp; Dart Leonberg-Höfingen 1989 e.V. - ECPv6.3.3.1//NONSGML v1.0//EN
CALSCALE:GREGORIAN
METHOD:PUBLISH
X-ORIGINAL-URL:https://bullhoefingen.de
X-WR-CALDESC:Veranstaltungen für BULL - Billard &amp; Dart Leonberg-Höfingen 1989 e.V.
REFRESH-INTERVAL;VALUE=DURATION:PT1H
X-Robots-Tag:noindex
X-PUBLISHED-TTL:PT1H
BEGIN:VTIMEZONE
TZID:Europe/Berlin
BEGIN:DAYLIGHT
TZOFFSETFROM:+0100
TZOFFSETTO:+0200
TZNAME:CEST
DTSTART:20260329T010000
END:DAYLIGHT
BEGIN:STANDARD
TZOFFSETFROM:+0200
TZOFFSETTO:+0100
TZNAME:CET
DTSTART:20261025T010000
END:STANDARD
END:VTIMEZONE
BEGIN:VEVENT
DTSTART;TZID=Europe/Berlin:20260117T190000
DTEND;TZID=Europe/Berlin:20260117T220000
DTSTAMP:20260421T115423
CREATED:20250918T125527Z
LAST-MODIFIED:20250918T125527Z
UID:1890-1768676400-1768687200@bullhoefingen.de
SUMMARY:Spieltag BULL Darter DSV Stadtliga B2
DESCRIPTION:Auswärtsspieltag\, Gegner: DC Roxy
URL:https://bullhoefingen.de/termin/spieltag-bull-darter-dsv-stadtliga-b2-41
LOCATION:Roxy\, Danziger Str. 39\, Ludwigsburg\, 71638\, Germany
CATEGORIES:DSV Stadtliga B2,E-Dart Ligatermine
ATTACH;FMTTYPE=image/jpeg:https://bullhoefingen.de/wp-content/uploads/2024/03/DSV-Stadtliga-e1710370561342.jpg
END:VEVENT
END:VCALENDAR